BEGIN:VCALENDAR
VERSION:2.0
PRODID:-//Smith Gillis Financial - ECPv6.15.20//NONSGML v1.0//EN
CALSCALE:GREGORIAN
METHOD:PUBLISH
X-ORIGINAL-URL:https://smithgillisfinancial.com
X-WR-CALDESC:Events for Smith Gillis Financial
REFRESH-INTERVAL;VALUE=DURATION:PT1H
X-Robots-Tag:noindex
X-PUBLISHED-TTL:PT1H
BEGIN:VTIMEZONE
TZID:America/New_York
BEGIN:DAYLIGHT
TZOFFSETFROM:-0500
TZOFFSETTO:-0400
TZNAME:EDT
DTSTART:20230312T070000
END:DAYLIGHT
BEGIN:STANDARD
TZOFFSETFROM:-0400
TZOFFSETTO:-0500
TZNAME:EST
DTSTART:20231105T060000
END:STANDARD
BEGIN:DAYLIGHT
TZOFFSETFROM:-0500
TZOFFSETTO:-0400
TZNAME:EDT
DTSTART:20240310T070000
END:DAYLIGHT
BEGIN:STANDARD
TZOFFSETFROM:-0400
TZOFFSETTO:-0500
TZNAME:EST
DTSTART:20241103T060000
END:STANDARD
BEGIN:DAYLIGHT
TZOFFSETFROM:-0500
TZOFFSETTO:-0400
TZNAME:EDT
DTSTART:20250309T070000
END:DAYLIGHT
BEGIN:STANDARD
TZOFFSETFROM:-0400
TZOFFSETTO:-0500
TZNAME:EST
DTSTART:20251102T060000
END:STANDARD
END:VTIMEZONE
BEGIN:VEVENT
DTSTART;TZID=America/New_York:20240731T180000
DTEND;TZID=America/New_York:20240731T200000
DTSTAMP:20260423T171413
CREATED:20240726T151956Z
LAST-MODIFIED:20240726T151956Z
UID:169-1722448800-1722456000@smithgillisfinancial.com
SUMMARY:Social Security – Know Your Options
DESCRIPTION:This class is offered free of charge\, but\nAdvance Registration is Required\nCapacity is limited – Guarantee your spot by registering today
URL:https://smithgillisfinancial.com/event/social-security-know-your-options/
LOCATION:Wolcott Public Library\, 469 Bound Line\, Road Wolcott\, C\, CT\, 06716\, United States
ATTACH;FMTTYPE=image/jpeg:https://smithgillisfinancial.com/wp-content/uploads/2024/07/qtq80-C3ERNA.jpeg
END:VEVENT
END:VCALENDAR